BEGIN:VCALENDAR
VERSION:2.0
PRODID:-//Atlanta Gladiators//atlantagladiators.com//EN
CALSCALE:GREGORIAN
BEGIN:VEVENT
UID:https://atlantagladiators.com/games/2026/05/04/south-carolina-stingrays
DTSTAMP:20260420T040730Z
SUMMARY:South Carolina Stingrays @ Atlanta Gladiators
DTSTART;TZID=Canada/Eastern:20260504T191000
DTEND;TZID=Canada/Eastern:20260504T221000
DESCRIPTION:South Carolina Stingrays at Atlanta Gladiators
LOCATION:Gas South Arena\, Duluth\, Georgia
URL;VALUE=URI:https://atlantagladiators.com/games/2026/05/04/south-carolina
 -stingrays
END:VEVENT
END:VCALENDAR
