BEGIN:VCALENDAR
VERSION:2.0
PRODID:-//Atlanta Gladiators//atlantagladiators.com//EN
CALSCALE:GREGORIAN
BEGIN:VEVENT
UID:https://atlantagladiators.com/games/2026/05/01/south-carolina-stingrays
DTSTAMP:20260420T084946Z
SUMMARY:Atlanta Gladiators @ South Carolina Stingrays
DTSTART;TZID=Canada/Eastern:20260501T190500
DTEND;TZID=Canada/Eastern:20260501T220500
DESCRIPTION:Atlanta Gladiators at South Carolina Stingrays
LOCATION:North Charleston Coliseum\, North Charleston\, South Carolina
URL;VALUE=URI:https://atlantagladiators.com/games/2026/05/01/south-carolina
 -stingrays
END:VEVENT
END:VCALENDAR
