BEGIN:VCALENDAR
VERSION:2.0
PRODID:-//Atlanta Gladiators//atlantagladiators.com//EN
CALSCALE:GREGORIAN
BEGIN:VEVENT
UID:https://atlantagladiators.com/games/2026/04/25/south-carolina-stingrays
DTSTAMP:20260420T085510Z
SUMMARY:Atlanta Gladiators @ South Carolina Stingrays
DTSTART;TZID=Canada/Eastern:20260425T180500
DTEND;TZID=Canada/Eastern:20260425T210500
DESCRIPTION:Atlanta Gladiators at South Carolina Stingrays
LOCATION:North Charleston Coliseum\, North Charleston\, South Carolina
URL;VALUE=URI:https://atlantagladiators.com/games/2026/04/25/south-carolina
 -stingrays
END:VEVENT
END:VCALENDAR
